Workbook

Sheet Tuloslaskelma
A1: UTAJÄRVEN KUNTA / MUU TASEYKSIKKÖ / VESI- JA VIEMÄRILAITOS
A3: TULOSLASKELMA | C3: 1.1.-31.12.2025 | E3: 1.1.-31.12.2024
A5: Liikevaihto | C5: 693708.4 | E5: 735468.1
A6: Materiaalit ja palvelut
A7: Aineet, tarvikkeet ja tavarat
A8: Ostot tilikauden aikana | B8: -118104.55 | D8: -95090.72
A9: Varastojen lisäys (+) tai vähennys (-)
A10: Palvelujen ostot | B10: -233601.42 | C10: =B8+B10 -> -351705.97 | D10: -353069.33 | E10: =D8+D10 -> -448160.05
A11: Henkilöstökulut
A12: Palkat ja palkkiot | B12: -164650.5 | D12: -165673.67
A13: Henkilösivukulut
A14: Eläkekulut | B14: -32755.59 | D14: -34722.24
A15: Muut henkilösivukulut | B15: -4338.94 | C15: =B12+B14+B15 -> -201745.03 | D15: -3724.56 | E15: =D12+D14+D15 -> -204120.47
A16: Poistot ja arvonalentumiset
A17: Suunnitelman mukaiset poistot | B17: -133449.94 | C17: =B17+B19 -> -133449.94 | D17: -140351.4 | E17: =D17+D19 -> -140351.4
A18: Arvonalentumiset
A19: Liiketoiminnan muut kulut | C19: -10476.05 | E19: -11018.65
A20: Liikeylijäämä (-alijäämä) | C20: =SUM(C5:C19) -> -3668.59 | E20: =SUM(E5:E19) -> -68182.47
A21: Rahoitustuotot ja -kulut
A22: Korkotuotot
A23: Muut rahoitustuotot | B23: 92.06 | D23: 20.39
A24: Kunnalle/kuntayhtymälle maksetut korkokulut
A25: Muille maksetut korkokulut
A26: Korvaus peruspääomasta | B26: -44849.21 | D26: -89698.42
A27: Muut rahoituskulut | B27: 0 | C27: =SUM(B22:B27) -> -44757.15 | D27: -11.56 | E27: =SUM(D22:D27) -> -89689.59
A28: Ylijäämä (alijäämä) ennen satunnaisia eriä | C28: =SUM(C20:C27) -> -48425.74 | E28: =SUM(E20:E27) -> -157872.06
A29: Satunnaiset tuotot ja kulut
A30: Satunnaiset tuotot
A31: Satunnaiset kulut
A32: Ylijäämä (alijäämä) ennen varauksia | C32: =SUM(C28:C31) -> -48425.74 | E32: =SUM(E28:E31) -> -157872.06
A33: Poistoeron lisäys (-) tai vähennys (+) | C33: 23333.34 | E33: 23333.34
A34: Vapaaehtoisten varausten lisäys (-) tai vähennys (+) | C34: -150000 | E34: 0
A35: Tuloverot
A36: Tilikauden ylijäämä (alijäämä) | C36: =SUM(C32:C35) -> -175092.4 | E36: =SUM(E32:E35) -> -134538.72

Sheet Rahoituslaskelma
A1: UTAJÄRVEN KUNTA / MUU TASEYKSIKKÖ / VESI- JA VIEMÄRILAITOS
B2: 01 - 12 | D2: 01 - 12
A3: RAHOITUSLASKELMA | B3: 2025 | D3: 2024
A5: Toiminnan rahavirta
A6: Liikeylijäämä (-alijäämä) | B6: =Tuloslaskelma!C20 -> -3668.59 | D6: =Tuloslaskelma!E20 -> -68182.47
A7: Poistot ja arvonalentumiset | B7: 133449.94 | D7: =-(Tuloslaskelma!D17) -> 140351.4
A8: Rahoitustuotot ja -kulut | B8: =Tuloslaskelma!C27 -> -44757.15 | D8: =Tuloslaskelma!E27 -> -89689.59
A9: Satunnaiset erät
A10: Tuloverot
A11: Tulorahoituksen korjauserät
B12: =SUM(B6:B11) -> 85024.2 | C12: =B12 -> 85024.2 | D12: =SUM(D6:D11) -> -17520.66 | E12: =D12 -> -17520.66
A13: Investointien rahavirta
A14: Investointimenot | B14: 0 | D14: -138008.86
A15: Rahoitusosuudet investointimenoihin
A16: Pysyvien vastaavien hyödykkeiden luovutustulot | C16: =SUM(B14:B16) -> 0 | E16: =SUM(D14:D16) -> -138008.86
A17: Toiminnan ja investointien rahavirta | C17: =C12+C16 -> 85024.2 | E17: =E12+E16 -> -155529.52
A19: Rahoituksen rahavirta
A21: Antolainauksen muutokset | C21: =SUM(B21:B21) -> 0 | E21: =SUM(D21:D21) -> 0
A23: Lainakannan muutokset | C23: =SUM(B23:B23) -> 0 | E23: =SUM(D23:D23) -> 0
A24: Oman pääoman muutokset | C24: 0 | E24: 0
A25: Muut maksuvalmiuden muutokset
A26: Toimeksiantojen varojen ja pääomien muutokset
A27: Vaihto-omaisuuden muutos | B27: 8570 | D27: 12300
A28: Saamisten muutos kunnalta/kuntayhtymältä
A29: Saamisten muutos muilta | B29: 135808.22 | D29: 20455.99
A30: Korottomien velkojen muutos kunnalta/ky:ltä | B30: -207231.83 | D30: 136402.31
A31: Korottomien velkojen muutos muilta | B31: -22170.59 | C31: =SUM(B26:B31) -> -85024.2 | D31: -13628.78 | E31: =SUM(D26:D31) -> 155529.52
A32: Rahoituksen rahavirta | C32: =C17+C31 -> 0 | E32: =E17+E31 -> 0
A34: Rahavarojen muutos
A35: Rahavarojen muutos
A36: Rahavarat 31.12.
A37: Rahavarat 1.1.

Sheet Tase
A1: UTAJÄRVEN KUNTA / MUU TASEYKSIKKÖ / VESI- JA VIEMÄRILAITOS
A3: TASE | C3: 45658 | D3: Muutos | E3: 46022
A5: VASTAAVAA
A7: PYSYVÄT VASTAAVAT
A8: Aineettomat hyödykkeet
A10: Aineelliset hyödykkeet
A11: Maa- ja vesialueet | C11: 1051 | E11: =C11+D11 -> 1051
A12: Kiinteät rakenteet ja laitteet | C12: 1645277.8 | D12: =-43125.6-56581.32 -> -99706.92 | E12: =C12+D12 -> 1545570.9
A13: Koneet ja kalusto | C13: 156116.28 | D13: =-33743.02 -> -33743.02 | E13: =C13+D13 -> 122373.26
A14: Sijoitukset
A16: TOIMEKSIANTOJEN VARAT
A18: VAIHTUVAT VASTAAVAT
A19: Vaihto-omaisuus
A21: Saamiset
A22: Pitkäaikaiset saamiset
A23: Lyhytaikaiset saamiset
A24: Myyntisaamiset | C24: 172484.78 | D24: -135808.22 | E24: =C24+D24 -> 36676.56
A26: Rahoitusarvopaperit
A28: Rahat ja pankkisaamiset
A30: VASTAAVAA YHTEENSÄ | C30: =SUM(C9:C29) -> 1974929.8 | D30: =SUM(D9:D29) -> -269258.16 | E30: =SUM(E9:E29) -> 1705671.7
A33: VASTATTAVAA
A35: OMA PÄÄOMA
A36: Peruspääoma | C36: 1494973.6 | E36: =C36+D36 -> 1494973.6
A37: Edellisten tilikausien ylijäämä (alijäämä) | C37: =-2290869.98-134538.72 -> -2425408.7 | E37: =C37+D37 -> -2425408.7
A38: Tilikauden ylijäämä (alijäämä) | D38: -175092.4 | E38: =C38+D38 -> -175092.4
A40: POISTOERO JA VAPAAEHTOISET VARAUKSET
A41: Poistoero | C41: 565241.94 | D41: -23333.34 | E41: =C41+D41 -> 541908.6
A42: Vapaaehtoiset varaukset | C42: 0 | D42: 150000 | E42: =C42+D42 -> 150000
A44: PAKOLLISET VARAUKSET
A46: TOIMEKSIANTOJEN PÄÄOMAT
A48: VIERAS PÄÄOMA
A49: Pitkäaikainen
A50: Korottomat velat kunnalta/kuntayhtymältä | C50: 1713285.9 | D50: -207231.83 | E50: =C50+D50 -> 1506054.1
A51: Muut velat/Liittymismaksut ja muut velat | C51: 541712.92 | D51: 8570 | E51: =C51+D51 -> 550282.92
A52: Siirtovelat
A54: Lyhytaikainen
A55: Ostovelat | C55: 85124.1 | D55: -22170.59 | E55: =C55+D55 -> 62953.51
A57: VASTATTAVAA YHTEENSÄ | C57: =SUM(C36:C56) -> 1974929.8 | D57: =SUM(D36:D56) -> -269258.16 | E57: =SUM(E36:E56) -> 1705671.7
